BEGIN:VCALENDAR
VERSION:2.0
PRODID:-//Island County Master Gardener Foundation - ECPv6.15.20//NONSGML v1.0//EN
CALSCALE:GREGORIAN
METHOD:PUBLISH
X-ORIGINAL-URL:https://islandcounty.mastergardenerfoundation.org
X-WR-CALDESC:Events for Island County Master Gardener Foundation
REFRESH-INTERVAL;VALUE=DURATION:PT1H
X-Robots-Tag:noindex
X-PUBLISHED-TTL:PT1H
BEGIN:VTIMEZONE
TZID:America/Los_Angeles
BEGIN:DAYLIGHT
TZOFFSETFROM:-0800
TZOFFSETTO:-0700
TZNAME:PDT
DTSTART:20230312T100000
END:DAYLIGHT
BEGIN:STANDARD
TZOFFSETFROM:-0700
TZOFFSETTO:-0800
TZNAME:PST
DTSTART:20231105T090000
END:STANDARD
BEGIN:DAYLIGHT
TZOFFSETFROM:-0800
TZOFFSETTO:-0700
TZNAME:PDT
DTSTART:20240310T100000
END:DAYLIGHT
BEGIN:STANDARD
TZOFFSETFROM:-0700
TZOFFSETTO:-0800
TZNAME:PST
DTSTART:20241103T090000
END:STANDARD
BEGIN:DAYLIGHT
TZOFFSETFROM:-0800
TZOFFSETTO:-0700
TZNAME:PDT
DTSTART:20250309T100000
END:DAYLIGHT
BEGIN:STANDARD
TZOFFSETFROM:-0700
TZOFFSETTO:-0800
TZNAME:PST
DTSTART:20251102T090000
END:STANDARD
BEGIN:DAYLIGHT
TZOFFSETFROM:-0800
TZOFFSETTO:-0700
TZNAME:PDT
DTSTART:20260308T100000
END:DAYLIGHT
BEGIN:STANDARD
TZOFFSETFROM:-0700
TZOFFSETTO:-0800
TZNAME:PST
DTSTART:20261101T090000
END:STANDARD
BEGIN:DAYLIGHT
TZOFFSETFROM:-0800
TZOFFSETTO:-0700
TZNAME:PDT
DTSTART:20270314T100000
END:DAYLIGHT
BEGIN:STANDARD
TZOFFSETFROM:-0700
TZOFFSETTO:-0800
TZNAME:PST
DTSTART:20271107T090000
END:STANDARD
END:VTIMEZONE
BEGIN:VEVENT
DTSTART;VALUE=DATE:20260321
DTEND;VALUE=DATE:20260322
DTSTAMP:20260421T150510
CREATED:20251001T182908Z
LAST-MODIFIED:20260310T155825Z
UID:10000123-1774051200-1774137599@islandcounty.mastergardenerfoundation.org
SUMMARY:Whidbey Gardening Workshop
DESCRIPTION:Join us again for the Whidbey Gardening Workshop.  Celebrate the Promise of Spring! \nFull Registration now closed.  Day Of single classes will be available as well as the Marketplace for shopping for walk-ins! \nAlong with gardening talks and hands-on learning\, the Whidbey Gardening Workshop has a large marketplace with gardening experts\, local conservation groups\, gardening supplies (and of course plants)\, and the Master Gardener Bookstore with book signings by instructors. \nLearn more and sign up for updates at WhidbeyGardening.org \n 
URL:https://islandcounty.mastergardenerfoundation.org/event/whidbey-gardening-workshop-3/
LOCATION:Oak Harbor High School\, 1 Wildcat Way\, Oak Harbor\, Washington\, 98277\, United States
CATEGORIES:Fundraisers,Gardening Education,Master Gardener Education Series,Plant Clinics
ATTACH;FMTTYPE=image/png:https://islandcounty.mastergardenerfoundation.org/wp-content/uploads/sites/50/2025/10/Banner_Plan-on-Attending-1.png
END:VEVENT
BEGIN:VEVENT
DTSTART;TZID=America/Los_Angeles:20240905T100000
DTEND;TZID=America/Los_Angeles:20240905T143000
DTSTAMP:20260421T150510
CREATED:20240602T210615Z
LAST-MODIFIED:20240603T023101Z
UID:10000100-1725530400-1725546600@islandcounty.mastergardenerfoundation.org
SUMMARY:Plant Clinics Near You - Click for weekly schedule
DESCRIPTION:Master Gardener volunteers staff plant clinics in the Extension Office\, nurseries\, garden centers\, farmers markets\, and hardware stores across Island County. We are available to answer your gardening questions – free of charge – so that you can get science-based answers to your gardening questions. \nPlant clinics are typically held from spring through early fall in locations on Whidbey and Camano Islands. \n\nOak Harbor and North Whidbey\n\n10am – 12pm\, First Sunday of each month\,  March 3 – September 1\nCountry Store – 31686 State Route 20\, Oak Harbor\n\n\nCoupeville and Central Whidbey\n\n10am – 12pm\, Thursdays\,  April 25 September 26\nWSU Extension Office -406 N. main St.\, Coupeville\n\n\nSouth Whidbey\n\n11am-2:30pm\, Sundays\, April 28-July 7\nSouth Whidbey Tilth Farmers Market – 2812 Thompson Rd.\, Langley (Off Highway 525 at Thompson Rd.\n\n\nCamano Island\n\n11am-1pm\, Fourth Saturday of the month\, March 24 to September 28\nCamano Plaza Ace Hardware – 370 NE Camano Dr.\, Camano Island
URL:https://islandcounty.mastergardenerfoundation.org/event/plant-clinics-at-locations-near-you/2024-09-05/
CATEGORIES:Gardening Education,Plant Clinics
ATTACH;FMTTYPE=image/jpeg:https://islandcounty.mastergardenerfoundation.org/wp-content/uploads/sites/50/2023/08/WGW2023-Carolyn-B-Ed-H-and-Marth-H-scaled.jpg
END:VEVENT
BEGIN:VEVENT
DTSTART;TZID=America/Los_Angeles:20240829T100000
DTEND;TZID=America/Los_Angeles:20240829T143000
DTSTAMP:20260421T150510
CREATED:20240602T210615Z
LAST-MODIFIED:20240603T023101Z
UID:10000099-1724925600-1724941800@islandcounty.mastergardenerfoundation.org
SUMMARY:Plant Clinics Near You - Click for weekly schedule
DESCRIPTION:Master Gardener volunteers staff plant clinics in the Extension Office\, nurseries\, garden centers\, farmers markets\, and hardware stores across Island County. We are available to answer your gardening questions – free of charge – so that you can get science-based answers to your gardening questions. \nPlant clinics are typically held from spring through early fall in locations on Whidbey and Camano Islands. \n\nOak Harbor and North Whidbey\n\n10am – 12pm\, First Sunday of each month\,  March 3 – September 1\nCountry Store – 31686 State Route 20\, Oak Harbor\n\n\nCoupeville and Central Whidbey\n\n10am – 12pm\, Thursdays\,  April 25 September 26\nWSU Extension Office -406 N. main St.\, Coupeville\n\n\nSouth Whidbey\n\n11am-2:30pm\, Sundays\, April 28-July 7\nSouth Whidbey Tilth Farmers Market – 2812 Thompson Rd.\, Langley (Off Highway 525 at Thompson Rd.\n\n\nCamano Island\n\n11am-1pm\, Fourth Saturday of the month\, March 24 to September 28\nCamano Plaza Ace Hardware – 370 NE Camano Dr.\, Camano Island
URL:https://islandcounty.mastergardenerfoundation.org/event/plant-clinics-at-locations-near-you/2024-08-29/
CATEGORIES:Gardening Education,Plant Clinics
ATTACH;FMTTYPE=image/jpeg:https://islandcounty.mastergardenerfoundation.org/wp-content/uploads/sites/50/2023/08/WGW2023-Carolyn-B-Ed-H-and-Marth-H-scaled.jpg
END:VEVENT
BEGIN:VEVENT
DTSTART;TZID=America/Los_Angeles:20240822T100000
DTEND;TZID=America/Los_Angeles:20240822T143000
DTSTAMP:20260421T150510
CREATED:20240602T210615Z
LAST-MODIFIED:20240603T023101Z
UID:10000098-1724320800-1724337000@islandcounty.mastergardenerfoundation.org
SUMMARY:Plant Clinics Near You - Click for weekly schedule
DESCRIPTION:Master Gardener volunteers staff plant clinics in the Extension Office\, nurseries\, garden centers\, farmers markets\, and hardware stores across Island County. We are available to answer your gardening questions – free of charge – so that you can get science-based answers to your gardening questions. \nPlant clinics are typically held from spring through early fall in locations on Whidbey and Camano Islands. \n\nOak Harbor and North Whidbey\n\n10am – 12pm\, First Sunday of each month\,  March 3 – September 1\nCountry Store – 31686 State Route 20\, Oak Harbor\n\n\nCoupeville and Central Whidbey\n\n10am – 12pm\, Thursdays\,  April 25 September 26\nWSU Extension Office -406 N. main St.\, Coupeville\n\n\nSouth Whidbey\n\n11am-2:30pm\, Sundays\, April 28-July 7\nSouth Whidbey Tilth Farmers Market – 2812 Thompson Rd.\, Langley (Off Highway 525 at Thompson Rd.\n\n\nCamano Island\n\n11am-1pm\, Fourth Saturday of the month\, March 24 to September 28\nCamano Plaza Ace Hardware – 370 NE Camano Dr.\, Camano Island
URL:https://islandcounty.mastergardenerfoundation.org/event/plant-clinics-at-locations-near-you/2024-08-22/
CATEGORIES:Gardening Education,Plant Clinics
ATTACH;FMTTYPE=image/jpeg:https://islandcounty.mastergardenerfoundation.org/wp-content/uploads/sites/50/2023/08/WGW2023-Carolyn-B-Ed-H-and-Marth-H-scaled.jpg
END:VEVENT
BEGIN:VEVENT
DTSTART;TZID=America/Los_Angeles:20240815T100000
DTEND;TZID=America/Los_Angeles:20240815T143000
DTSTAMP:20260421T150510
CREATED:20240602T210615Z
LAST-MODIFIED:20240603T023101Z
UID:10000097-1723716000-1723732200@islandcounty.mastergardenerfoundation.org
SUMMARY:Plant Clinics Near You - Click for weekly schedule
DESCRIPTION:Master Gardener volunteers staff plant clinics in the Extension Office\, nurseries\, garden centers\, farmers markets\, and hardware stores across Island County. We are available to answer your gardening questions – free of charge – so that you can get science-based answers to your gardening questions. \nPlant clinics are typically held from spring through early fall in locations on Whidbey and Camano Islands. \n\nOak Harbor and North Whidbey\n\n10am – 12pm\, First Sunday of each month\,  March 3 – September 1\nCountry Store – 31686 State Route 20\, Oak Harbor\n\n\nCoupeville and Central Whidbey\n\n10am – 12pm\, Thursdays\,  April 25 September 26\nWSU Extension Office -406 N. main St.\, Coupeville\n\n\nSouth Whidbey\n\n11am-2:30pm\, Sundays\, April 28-July 7\nSouth Whidbey Tilth Farmers Market – 2812 Thompson Rd.\, Langley (Off Highway 525 at Thompson Rd.\n\n\nCamano Island\n\n11am-1pm\, Fourth Saturday of the month\, March 24 to September 28\nCamano Plaza Ace Hardware – 370 NE Camano Dr.\, Camano Island
URL:https://islandcounty.mastergardenerfoundation.org/event/plant-clinics-at-locations-near-you/2024-08-15/
CATEGORIES:Gardening Education,Plant Clinics
ATTACH;FMTTYPE=image/jpeg:https://islandcounty.mastergardenerfoundation.org/wp-content/uploads/sites/50/2023/08/WGW2023-Carolyn-B-Ed-H-and-Marth-H-scaled.jpg
END:VEVENT
BEGIN:VEVENT
DTSTART;TZID=America/Los_Angeles:20240808T100000
DTEND;TZID=America/Los_Angeles:20240808T143000
DTSTAMP:20260421T150510
CREATED:20240602T210615Z
LAST-MODIFIED:20240603T023101Z
UID:10000096-1723111200-1723127400@islandcounty.mastergardenerfoundation.org
SUMMARY:Plant Clinics Near You - Click for weekly schedule
DESCRIPTION:Master Gardener volunteers staff plant clinics in the Extension Office\, nurseries\, garden centers\, farmers markets\, and hardware stores across Island County. We are available to answer your gardening questions – free of charge – so that you can get science-based answers to your gardening questions. \nPlant clinics are typically held from spring through early fall in locations on Whidbey and Camano Islands. \n\nOak Harbor and North Whidbey\n\n10am – 12pm\, First Sunday of each month\,  March 3 – September 1\nCountry Store – 31686 State Route 20\, Oak Harbor\n\n\nCoupeville and Central Whidbey\n\n10am – 12pm\, Thursdays\,  April 25 September 26\nWSU Extension Office -406 N. main St.\, Coupeville\n\n\nSouth Whidbey\n\n11am-2:30pm\, Sundays\, April 28-July 7\nSouth Whidbey Tilth Farmers Market – 2812 Thompson Rd.\, Langley (Off Highway 525 at Thompson Rd.\n\n\nCamano Island\n\n11am-1pm\, Fourth Saturday of the month\, March 24 to September 28\nCamano Plaza Ace Hardware – 370 NE Camano Dr.\, Camano Island
URL:https://islandcounty.mastergardenerfoundation.org/event/plant-clinics-at-locations-near-you/2024-08-08/
CATEGORIES:Gardening Education,Plant Clinics
ATTACH;FMTTYPE=image/jpeg:https://islandcounty.mastergardenerfoundation.org/wp-content/uploads/sites/50/2023/08/WGW2023-Carolyn-B-Ed-H-and-Marth-H-scaled.jpg
END:VEVENT
BEGIN:VEVENT
DTSTART;TZID=America/Los_Angeles:20240801T100000
DTEND;TZID=America/Los_Angeles:20240801T143000
DTSTAMP:20260421T150510
CREATED:20240602T210615Z
LAST-MODIFIED:20240603T023101Z
UID:10000095-1722506400-1722522600@islandcounty.mastergardenerfoundation.org
SUMMARY:Plant Clinics Near You - Click for weekly schedule
DESCRIPTION:Master Gardener volunteers staff plant clinics in the Extension Office\, nurseries\, garden centers\, farmers markets\, and hardware stores across Island County. We are available to answer your gardening questions – free of charge – so that you can get science-based answers to your gardening questions. \nPlant clinics are typically held from spring through early fall in locations on Whidbey and Camano Islands. \n\nOak Harbor and North Whidbey\n\n10am – 12pm\, First Sunday of each month\,  March 3 – September 1\nCountry Store – 31686 State Route 20\, Oak Harbor\n\n\nCoupeville and Central Whidbey\n\n10am – 12pm\, Thursdays\,  April 25 September 26\nWSU Extension Office -406 N. main St.\, Coupeville\n\n\nSouth Whidbey\n\n11am-2:30pm\, Sundays\, April 28-July 7\nSouth Whidbey Tilth Farmers Market – 2812 Thompson Rd.\, Langley (Off Highway 525 at Thompson Rd.\n\n\nCamano Island\n\n11am-1pm\, Fourth Saturday of the month\, March 24 to September 28\nCamano Plaza Ace Hardware – 370 NE Camano Dr.\, Camano Island
URL:https://islandcounty.mastergardenerfoundation.org/event/plant-clinics-at-locations-near-you/2024-08-01/
CATEGORIES:Gardening Education,Plant Clinics
ATTACH;FMTTYPE=image/jpeg:https://islandcounty.mastergardenerfoundation.org/wp-content/uploads/sites/50/2023/08/WGW2023-Carolyn-B-Ed-H-and-Marth-H-scaled.jpg
END:VEVENT
BEGIN:VEVENT
DTSTART;TZID=America/Los_Angeles:20240725T100000
DTEND;TZID=America/Los_Angeles:20240725T143000
DTSTAMP:20260421T150510
CREATED:20240602T210615Z
LAST-MODIFIED:20240603T023101Z
UID:10000094-1721901600-1721917800@islandcounty.mastergardenerfoundation.org
SUMMARY:Plant Clinics Near You - Click for weekly schedule
DESCRIPTION:Master Gardener volunteers staff plant clinics in the Extension Office\, nurseries\, garden centers\, farmers markets\, and hardware stores across Island County. We are available to answer your gardening questions – free of charge – so that you can get science-based answers to your gardening questions. \nPlant clinics are typically held from spring through early fall in locations on Whidbey and Camano Islands. \n\nOak Harbor and North Whidbey\n\n10am – 12pm\, First Sunday of each month\,  March 3 – September 1\nCountry Store – 31686 State Route 20\, Oak Harbor\n\n\nCoupeville and Central Whidbey\n\n10am – 12pm\, Thursdays\,  April 25 September 26\nWSU Extension Office -406 N. main St.\, Coupeville\n\n\nSouth Whidbey\n\n11am-2:30pm\, Sundays\, April 28-July 7\nSouth Whidbey Tilth Farmers Market – 2812 Thompson Rd.\, Langley (Off Highway 525 at Thompson Rd.\n\n\nCamano Island\n\n11am-1pm\, Fourth Saturday of the month\, March 24 to September 28\nCamano Plaza Ace Hardware – 370 NE Camano Dr.\, Camano Island
URL:https://islandcounty.mastergardenerfoundation.org/event/plant-clinics-at-locations-near-you/2024-07-25/
CATEGORIES:Gardening Education,Plant Clinics
ATTACH;FMTTYPE=image/jpeg:https://islandcounty.mastergardenerfoundation.org/wp-content/uploads/sites/50/2023/08/WGW2023-Carolyn-B-Ed-H-and-Marth-H-scaled.jpg
END:VEVENT
BEGIN:VEVENT
DTSTART;TZID=America/Los_Angeles:20240718T100000
DTEND;TZID=America/Los_Angeles:20240718T143000
DTSTAMP:20260421T150510
CREATED:20240602T210615Z
LAST-MODIFIED:20240603T023101Z
UID:10000093-1721296800-1721313000@islandcounty.mastergardenerfoundation.org
SUMMARY:Plant Clinics Near You - Click for weekly schedule
DESCRIPTION:Master Gardener volunteers staff plant clinics in the Extension Office\, nurseries\, garden centers\, farmers markets\, and hardware stores across Island County. We are available to answer your gardening questions – free of charge – so that you can get science-based answers to your gardening questions. \nPlant clinics are typically held from spring through early fall in locations on Whidbey and Camano Islands. \n\nOak Harbor and North Whidbey\n\n10am – 12pm\, First Sunday of each month\,  March 3 – September 1\nCountry Store – 31686 State Route 20\, Oak Harbor\n\n\nCoupeville and Central Whidbey\n\n10am – 12pm\, Thursdays\,  April 25 September 26\nWSU Extension Office -406 N. main St.\, Coupeville\n\n\nSouth Whidbey\n\n11am-2:30pm\, Sundays\, April 28-July 7\nSouth Whidbey Tilth Farmers Market – 2812 Thompson Rd.\, Langley (Off Highway 525 at Thompson Rd.\n\n\nCamano Island\n\n11am-1pm\, Fourth Saturday of the month\, March 24 to September 28\nCamano Plaza Ace Hardware – 370 NE Camano Dr.\, Camano Island
URL:https://islandcounty.mastergardenerfoundation.org/event/plant-clinics-at-locations-near-you/2024-07-18/
CATEGORIES:Gardening Education,Plant Clinics
ATTACH;FMTTYPE=image/jpeg:https://islandcounty.mastergardenerfoundation.org/wp-content/uploads/sites/50/2023/08/WGW2023-Carolyn-B-Ed-H-and-Marth-H-scaled.jpg
END:VEVENT
BEGIN:VEVENT
DTSTART;TZID=America/Los_Angeles:20240711T100000
DTEND;TZID=America/Los_Angeles:20240711T143000
DTSTAMP:20260421T150510
CREATED:20240602T210615Z
LAST-MODIFIED:20240603T023101Z
UID:10000092-1720692000-1720708200@islandcounty.mastergardenerfoundation.org
SUMMARY:Plant Clinics Near You - Click for weekly schedule
DESCRIPTION:Master Gardener volunteers staff plant clinics in the Extension Office\, nurseries\, garden centers\, farmers markets\, and hardware stores across Island County. We are available to answer your gardening questions – free of charge – so that you can get science-based answers to your gardening questions. \nPlant clinics are typically held from spring through early fall in locations on Whidbey and Camano Islands. \n\nOak Harbor and North Whidbey\n\n10am – 12pm\, First Sunday of each month\,  March 3 – September 1\nCountry Store – 31686 State Route 20\, Oak Harbor\n\n\nCoupeville and Central Whidbey\n\n10am – 12pm\, Thursdays\,  April 25 September 26\nWSU Extension Office -406 N. main St.\, Coupeville\n\n\nSouth Whidbey\n\n11am-2:30pm\, Sundays\, April 28-July 7\nSouth Whidbey Tilth Farmers Market – 2812 Thompson Rd.\, Langley (Off Highway 525 at Thompson Rd.\n\n\nCamano Island\n\n11am-1pm\, Fourth Saturday of the month\, March 24 to September 28\nCamano Plaza Ace Hardware – 370 NE Camano Dr.\, Camano Island
URL:https://islandcounty.mastergardenerfoundation.org/event/plant-clinics-at-locations-near-you/2024-07-11/
CATEGORIES:Gardening Education,Plant Clinics
ATTACH;FMTTYPE=image/jpeg:https://islandcounty.mastergardenerfoundation.org/wp-content/uploads/sites/50/2023/08/WGW2023-Carolyn-B-Ed-H-and-Marth-H-scaled.jpg
END:VEVENT
BEGIN:VEVENT
DTSTART;TZID=America/Los_Angeles:20240704T100000
DTEND;TZID=America/Los_Angeles:20240704T143000
DTSTAMP:20260421T150510
CREATED:20240602T210615Z
LAST-MODIFIED:20240603T023101Z
UID:10000091-1720087200-1720103400@islandcounty.mastergardenerfoundation.org
SUMMARY:Plant Clinics Near You - Click for weekly schedule
DESCRIPTION:Master Gardener volunteers staff plant clinics in the Extension Office\, nurseries\, garden centers\, farmers markets\, and hardware stores across Island County. We are available to answer your gardening questions – free of charge – so that you can get science-based answers to your gardening questions. \nPlant clinics are typically held from spring through early fall in locations on Whidbey and Camano Islands. \n\nOak Harbor and North Whidbey\n\n10am – 12pm\, First Sunday of each month\,  March 3 – September 1\nCountry Store – 31686 State Route 20\, Oak Harbor\n\n\nCoupeville and Central Whidbey\n\n10am – 12pm\, Thursdays\,  April 25 September 26\nWSU Extension Office -406 N. main St.\, Coupeville\n\n\nSouth Whidbey\n\n11am-2:30pm\, Sundays\, April 28-July 7\nSouth Whidbey Tilth Farmers Market – 2812 Thompson Rd.\, Langley (Off Highway 525 at Thompson Rd.\n\n\nCamano Island\n\n11am-1pm\, Fourth Saturday of the month\, March 24 to September 28\nCamano Plaza Ace Hardware – 370 NE Camano Dr.\, Camano Island
URL:https://islandcounty.mastergardenerfoundation.org/event/plant-clinics-at-locations-near-you/2024-07-04/
CATEGORIES:Gardening Education,Plant Clinics
ATTACH;FMTTYPE=image/jpeg:https://islandcounty.mastergardenerfoundation.org/wp-content/uploads/sites/50/2023/08/WGW2023-Carolyn-B-Ed-H-and-Marth-H-scaled.jpg
END:VEVENT
BEGIN:VEVENT
DTSTART;TZID=America/Los_Angeles:20240627T100000
DTEND;TZID=America/Los_Angeles:20240627T143000
DTSTAMP:20260421T150510
CREATED:20240602T210615Z
LAST-MODIFIED:20240603T023101Z
UID:10000090-1719482400-1719498600@islandcounty.mastergardenerfoundation.org
SUMMARY:Plant Clinics Near You - Click for weekly schedule
DESCRIPTION:Master Gardener volunteers staff plant clinics in the Extension Office\, nurseries\, garden centers\, farmers markets\, and hardware stores across Island County. We are available to answer your gardening questions – free of charge – so that you can get science-based answers to your gardening questions. \nPlant clinics are typically held from spring through early fall in locations on Whidbey and Camano Islands. \n\nOak Harbor and North Whidbey\n\n10am – 12pm\, First Sunday of each month\,  March 3 – September 1\nCountry Store – 31686 State Route 20\, Oak Harbor\n\n\nCoupeville and Central Whidbey\n\n10am – 12pm\, Thursdays\,  April 25 September 26\nWSU Extension Office -406 N. main St.\, Coupeville\n\n\nSouth Whidbey\n\n11am-2:30pm\, Sundays\, April 28-July 7\nSouth Whidbey Tilth Farmers Market – 2812 Thompson Rd.\, Langley (Off Highway 525 at Thompson Rd.\n\n\nCamano Island\n\n11am-1pm\, Fourth Saturday of the month\, March 24 to September 28\nCamano Plaza Ace Hardware – 370 NE Camano Dr.\, Camano Island
URL:https://islandcounty.mastergardenerfoundation.org/event/plant-clinics-at-locations-near-you/2024-06-27/
CATEGORIES:Gardening Education,Plant Clinics
ATTACH;FMTTYPE=image/jpeg:https://islandcounty.mastergardenerfoundation.org/wp-content/uploads/sites/50/2023/08/WGW2023-Carolyn-B-Ed-H-and-Marth-H-scaled.jpg
END:VEVENT
BEGIN:VEVENT
DTSTART;TZID=America/Los_Angeles:20240620T100000
DTEND;TZID=America/Los_Angeles:20240620T143000
DTSTAMP:20260421T150510
CREATED:20240602T210615Z
LAST-MODIFIED:20240603T023101Z
UID:10000089-1718877600-1718893800@islandcounty.mastergardenerfoundation.org
SUMMARY:Plant Clinics Near You - Click for weekly schedule
DESCRIPTION:Master Gardener volunteers staff plant clinics in the Extension Office\, nurseries\, garden centers\, farmers markets\, and hardware stores across Island County. We are available to answer your gardening questions – free of charge – so that you can get science-based answers to your gardening questions. \nPlant clinics are typically held from spring through early fall in locations on Whidbey and Camano Islands. \n\nOak Harbor and North Whidbey\n\n10am – 12pm\, First Sunday of each month\,  March 3 – September 1\nCountry Store – 31686 State Route 20\, Oak Harbor\n\n\nCoupeville and Central Whidbey\n\n10am – 12pm\, Thursdays\,  April 25 September 26\nWSU Extension Office -406 N. main St.\, Coupeville\n\n\nSouth Whidbey\n\n11am-2:30pm\, Sundays\, April 28-July 7\nSouth Whidbey Tilth Farmers Market – 2812 Thompson Rd.\, Langley (Off Highway 525 at Thompson Rd.\n\n\nCamano Island\n\n11am-1pm\, Fourth Saturday of the month\, March 24 to September 28\nCamano Plaza Ace Hardware – 370 NE Camano Dr.\, Camano Island
URL:https://islandcounty.mastergardenerfoundation.org/event/plant-clinics-at-locations-near-you/2024-06-20/
CATEGORIES:Gardening Education,Plant Clinics
ATTACH;FMTTYPE=image/jpeg:https://islandcounty.mastergardenerfoundation.org/wp-content/uploads/sites/50/2023/08/WGW2023-Carolyn-B-Ed-H-and-Marth-H-scaled.jpg
END:VEVENT
BEGIN:VEVENT
DTSTART;TZID=America/Los_Angeles:20240613T100000
DTEND;TZID=America/Los_Angeles:20240613T143000
DTSTAMP:20260421T150510
CREATED:20240602T210615Z
LAST-MODIFIED:20240603T023101Z
UID:10000088-1718272800-1718289000@islandcounty.mastergardenerfoundation.org
SUMMARY:Plant Clinics Near You - Click for weekly schedule
DESCRIPTION:Master Gardener volunteers staff plant clinics in the Extension Office\, nurseries\, garden centers\, farmers markets\, and hardware stores across Island County. We are available to answer your gardening questions – free of charge – so that you can get science-based answers to your gardening questions. \nPlant clinics are typically held from spring through early fall in locations on Whidbey and Camano Islands. \n\nOak Harbor and North Whidbey\n\n10am – 12pm\, First Sunday of each month\,  March 3 – September 1\nCountry Store – 31686 State Route 20\, Oak Harbor\n\n\nCoupeville and Central Whidbey\n\n10am – 12pm\, Thursdays\,  April 25 September 26\nWSU Extension Office -406 N. main St.\, Coupeville\n\n\nSouth Whidbey\n\n11am-2:30pm\, Sundays\, April 28-July 7\nSouth Whidbey Tilth Farmers Market – 2812 Thompson Rd.\, Langley (Off Highway 525 at Thompson Rd.\n\n\nCamano Island\n\n11am-1pm\, Fourth Saturday of the month\, March 24 to September 28\nCamano Plaza Ace Hardware – 370 NE Camano Dr.\, Camano Island
URL:https://islandcounty.mastergardenerfoundation.org/event/plant-clinics-at-locations-near-you/2024-06-13/
CATEGORIES:Gardening Education,Plant Clinics
ATTACH;FMTTYPE=image/jpeg:https://islandcounty.mastergardenerfoundation.org/wp-content/uploads/sites/50/2023/08/WGW2023-Carolyn-B-Ed-H-and-Marth-H-scaled.jpg
END:VEVENT
BEGIN:VEVENT
DTSTART;TZID=America/Los_Angeles:20240606T100000
DTEND;TZID=America/Los_Angeles:20240606T143000
DTSTAMP:20260421T150510
CREATED:20240602T210615Z
LAST-MODIFIED:20240603T023101Z
UID:10000087-1717668000-1717684200@islandcounty.mastergardenerfoundation.org
SUMMARY:Plant Clinics Near You - Click for weekly schedule
DESCRIPTION:Master Gardener volunteers staff plant clinics in the Extension Office\, nurseries\, garden centers\, farmers markets\, and hardware stores across Island County. We are available to answer your gardening questions – free of charge – so that you can get science-based answers to your gardening questions. \nPlant clinics are typically held from spring through early fall in locations on Whidbey and Camano Islands. \n\nOak Harbor and North Whidbey\n\n10am – 12pm\, First Sunday of each month\,  March 3 – September 1\nCountry Store – 31686 State Route 20\, Oak Harbor\n\n\nCoupeville and Central Whidbey\n\n10am – 12pm\, Thursdays\,  April 25 September 26\nWSU Extension Office -406 N. main St.\, Coupeville\n\n\nSouth Whidbey\n\n11am-2:30pm\, Sundays\, April 28-July 7\nSouth Whidbey Tilth Farmers Market – 2812 Thompson Rd.\, Langley (Off Highway 525 at Thompson Rd.\n\n\nCamano Island\n\n11am-1pm\, Fourth Saturday of the month\, March 24 to September 28\nCamano Plaza Ace Hardware – 370 NE Camano Dr.\, Camano Island
URL:https://islandcounty.mastergardenerfoundation.org/event/plant-clinics-at-locations-near-you/2024-06-06/
CATEGORIES:Gardening Education,Plant Clinics
ATTACH;FMTTYPE=image/jpeg:https://islandcounty.mastergardenerfoundation.org/wp-content/uploads/sites/50/2023/08/WGW2023-Carolyn-B-Ed-H-and-Marth-H-scaled.jpg
END:VEVENT
END:VCALENDAR