BEGIN:VCALENDAR
VERSION:2.0
PRODID:-//Island County Master Gardener Foundation - ECPv6.15.20//NONSGML v1.0//EN
CALSCALE:GREGORIAN
METHOD:PUBLISH
X-WR-CALNAME:Island County Master Gardener Foundation
X-ORIGINAL-URL:https://islandcounty.mastergardenerfoundation.org
X-WR-CALDESC:Events for Island County Master Gardener Foundation
REFRESH-INTERVAL;VALUE=DURATION:PT1H
X-Robots-Tag:noindex
X-PUBLISHED-TTL:PT1H
BEGIN:VTIMEZONE
TZID:America/Los_Angeles
BEGIN:DAYLIGHT
TZOFFSETFROM:-0800
TZOFFSETTO:-0700
TZNAME:PDT
DTSTART:20240310T100000
END:DAYLIGHT
BEGIN:STANDARD
TZOFFSETFROM:-0700
TZOFFSETTO:-0800
TZNAME:PST
DTSTART:20241103T090000
END:STANDARD
BEGIN:DAYLIGHT
TZOFFSETFROM:-0800
TZOFFSETTO:-0700
TZNAME:PDT
DTSTART:20250309T100000
END:DAYLIGHT
BEGIN:STANDARD
TZOFFSETFROM:-0700
TZOFFSETTO:-0800
TZNAME:PST
DTSTART:20251102T090000
END:STANDARD
BEGIN:DAYLIGHT
TZOFFSETFROM:-0800
TZOFFSETTO:-0700
TZNAME:PDT
DTSTART:20260308T100000
END:DAYLIGHT
BEGIN:STANDARD
TZOFFSETFROM:-0700
TZOFFSETTO:-0800
TZNAME:PST
DTSTART:20261101T090000
END:STANDARD
END:VTIMEZONE
BEGIN:VEVENT
DTSTART;TZID=America/Los_Angeles:20250925T190000
DTEND;TZID=America/Los_Angeles:20250925T200000
DTSTAMP:20260421T080603
CREATED:20250704T181427Z
LAST-MODIFIED:20251009T011706Z
UID:10000118-1758826800-1758830400@islandcounty.mastergardenerfoundation.org
SUMMARY:The Significance of Camas
DESCRIPTION:This event can be viewed via video – Please click the link here:  Significance of Camas\, with Sam Barr
URL:https://islandcounty.mastergardenerfoundation.org/event/the-significance-of-camas/
LOCATION:Pacific Rim Institute\, 180 S. Parker Road\, Coupeville\, WA\, 98239\, United States
CATEGORIES:Foundation Member Meetings,Gardening Education,Master Gardener Education Series
ATTACH;FMTTYPE=image/png:https://islandcounty.mastergardenerfoundation.org/wp-content/uploads/sites/50/2025/07/Camas-classSeptember25.png
END:VEVENT
END:VCALENDAR