BEGIN:VCALENDAR
VERSION:2.0
PRODID:-//Island County Master Gardener Foundation - ECPv6.15.20//NONSGML v1.0//EN
CALSCALE:GREGORIAN
METHOD:PUBLISH
X-ORIGINAL-URL:https://islandcounty.mastergardenerfoundation.org
X-WR-CALDESC:Events for Island County Master Gardener Foundation
REFRESH-INTERVAL;VALUE=DURATION:PT1H
X-Robots-Tag:noindex
X-PUBLISHED-TTL:PT1H
BEGIN:VTIMEZONE
TZID:America/Los_Angeles
BEGIN:DAYLIGHT
TZOFFSETFROM:-0800
TZOFFSETTO:-0700
TZNAME:PDT
DTSTART:20240310T100000
END:DAYLIGHT
BEGIN:STANDARD
TZOFFSETFROM:-0700
TZOFFSETTO:-0800
TZNAME:PST
DTSTART:20241103T090000
END:STANDARD
BEGIN:DAYLIGHT
TZOFFSETFROM:-0800
TZOFFSETTO:-0700
TZNAME:PDT
DTSTART:20250309T100000
END:DAYLIGHT
BEGIN:STANDARD
TZOFFSETFROM:-0700
TZOFFSETTO:-0800
TZNAME:PST
DTSTART:20251102T090000
END:STANDARD
BEGIN:DAYLIGHT
TZOFFSETFROM:-0800
TZOFFSETTO:-0700
TZNAME:PDT
DTSTART:20260308T100000
END:DAYLIGHT
BEGIN:STANDARD
TZOFFSETFROM:-0700
TZOFFSETTO:-0800
TZNAME:PST
DTSTART:20261101T090000
END:STANDARD
END:VTIMEZONE
BEGIN:VEVENT
DTSTART;TZID=America/Los_Angeles:20250626T190000
DTEND;TZID=America/Los_Angeles:20250626T200000
DTSTAMP:20260425T172341
CREATED:20250617T181151Z
LAST-MODIFIED:20250923T152427Z
UID:10000121-1750964400-1750968000@islandcounty.mastergardenerfoundation.org
SUMMARY:Preserving Puget  Sound with Plants
DESCRIPTION:Presentation: Preserving Puget Sound with Plants  \nwith Kelly Zupich\, Shore Friendly Program Coordinator \nThe Shore Friendly program helps landowners protect their shorelines and bluffs through landscaping.  Come learn what their program offers our community and which plants are their super heroes! \nSee the Recording  –Click here: \n\n\n\n\n\n\n\n\nHello Sea Level Rise Workshop Participants and Master Gardeners\, \nThank you for attending one of our Sea Level Rise workshops and our Shore Friendly presentation. resources. We have been able to pull together the attached and below materials for you! Feel free to reach out if you have any further questions and appreciate you taking the time to learn about our shoreline ecosystems. \n\n\n\n\n\n\n\n\nElise Adams\, Marine Resource Committee Coordinator \n\n\n\n\n\n\n\n\n\n\n\n\n\n\n\n\n\n\n\n\n\n\n\n\n\n\n\n\n\n\n\n\n\n\n\n Email: E.Adams@islandcountywa.gov | Office: +1(360)678-7892\n1 NE 7th Street\, Coupeville\, WA 98239\n\n\n\n\n\n\n\n\n\n\n\nShore Friendly Program – Shore Friendly Program | Island County\, WA \nShoreline Site Visit Request Form – Shore Friendly Site Visit Request
URL:https://islandcounty.mastergardenerfoundation.org/event/preserving-puget-sound-with-plants/
LOCATION:Pacific Rim Institute\, 180 S. Parker Road\, Coupeville\, WA\, 98239\, United States
CATEGORIES:Foundation Member Meetings,Gardening Education,Master Gardener Education Series
ATTACH;FMTTYPE=image/png:https://islandcounty.mastergardenerfoundation.org/wp-content/uploads/sites/50/2025/06/Preserving-Puget-Sound-With-Plants1.png
END:VEVENT
END:VCALENDAR