BEGIN:VCALENDAR
VERSION:2.0
PRODID:-//Island County Master Gardener Foundation - ECPv6.15.20//NONSGML v1.0//EN
CALSCALE:GREGORIAN
METHOD:PUBLISH
X-WR-CALNAME:Island County Master Gardener Foundation
X-ORIGINAL-URL:https://islandcounty.mastergardenerfoundation.org
X-WR-CALDESC:Events for Island County Master Gardener Foundation
REFRESH-INTERVAL;VALUE=DURATION:PT1H
X-Robots-Tag:noindex
X-PUBLISHED-TTL:PT1H
BEGIN:VTIMEZONE
TZID:America/Los_Angeles
BEGIN:DAYLIGHT
TZOFFSETFROM:-0800
TZOFFSETTO:-0700
TZNAME:PDT
DTSTART:20240310T100000
END:DAYLIGHT
BEGIN:STANDARD
TZOFFSETFROM:-0700
TZOFFSETTO:-0800
TZNAME:PST
DTSTART:20241103T090000
END:STANDARD
BEGIN:DAYLIGHT
TZOFFSETFROM:-0800
TZOFFSETTO:-0700
TZNAME:PDT
DTSTART:20250309T100000
END:DAYLIGHT
BEGIN:STANDARD
TZOFFSETFROM:-0700
TZOFFSETTO:-0800
TZNAME:PST
DTSTART:20251102T090000
END:STANDARD
BEGIN:DAYLIGHT
TZOFFSETFROM:-0800
TZOFFSETTO:-0700
TZNAME:PDT
DTSTART:20260308T100000
END:DAYLIGHT
BEGIN:STANDARD
TZOFFSETFROM:-0700
TZOFFSETTO:-0800
TZNAME:PST
DTSTART:20261101T090000
END:STANDARD
END:VTIMEZONE
BEGIN:VEVENT
DTSTART;TZID=America/Los_Angeles:20250615T130000
DTEND;TZID=America/Los_Angeles:20250615T140000
DTSTAMP:20260425T201101
CREATED:20250327T224321Z
LAST-MODIFIED:20250327T224321Z
UID:10000112-1749992400-1749996000@islandcounty.mastergardenerfoundation.org
SUMMARY:Exploring Plants in your Garden  for Pest and Disease
DESCRIPTION:Presenter: Jenny Glass  – WSU Puyallup  Extension  Coordinator / Plant Diagnostician \nLearn to incorporate plant disease and post detection/diagnosis into your gardening habits. You will get tools to help prevent/manage diseases and pests and see a variety of samples for investigation. \nThe classes in this Education Series are FREE\, and all are welcome to attend.
URL:https://islandcounty.mastergardenerfoundation.org/event/exploring-plants-in-your-garden-for-pest-and-disease/
LOCATION:Greenbank Farm\, 765 Wonn Rd.\, Greenbank\, WA
CATEGORIES:Master Gardener Education Series
END:VEVENT
END:VCALENDAR